BEGIN:VCALENDAR
VERSION:2.0
PRODID:-//Tigris Shriners - ECPv6.15.20//NONSGML v1.0//EN
CALSCALE:GREGORIAN
METHOD:PUBLISH
X-ORIGINAL-URL:https://www.tigrisshriners.com
X-WR-CALDESC:Events for Tigris Shriners
REFRESH-INTERVAL;VALUE=DURATION:PT1H
X-Robots-Tag:noindex
X-PUBLISHED-TTL:PT1H
BEGIN:VTIMEZONE
TZID:America/New_York
BEGIN:DAYLIGHT
TZOFFSETFROM:-0500
TZOFFSETTO:-0400
TZNAME:EDT
DTSTART:20220313T070000
END:DAYLIGHT
BEGIN:STANDARD
TZOFFSETFROM:-0400
TZOFFSETTO:-0500
TZNAME:EST
DTSTART:20221106T060000
END:STANDARD
BEGIN:DAYLIGHT
TZOFFSETFROM:-0500
TZOFFSETTO:-0400
TZNAME:EDT
DTSTART:20230312T070000
END:DAYLIGHT
BEGIN:STANDARD
TZOFFSETFROM:-0400
TZOFFSETTO:-0500
TZNAME:EST
DTSTART:20231105T060000
END:STANDARD
BEGIN:DAYLIGHT
TZOFFSETFROM:-0500
TZOFFSETTO:-0400
TZNAME:EDT
DTSTART:20240310T070000
END:DAYLIGHT
BEGIN:STANDARD
TZOFFSETFROM:-0400
TZOFFSETTO:-0500
TZNAME:EST
DTSTART:20241103T060000
END:STANDARD
END:VTIMEZONE
BEGIN:VEVENT
DTSTART;TZID=America/New_York:20230517T183000
DTEND;TZID=America/New_York:20230517T213000
DTSTAMP:20260425T232301
CREATED:20230514T140640Z
LAST-MODIFIED:20230514T140640Z
UID:8798-1684348200-1684359000@www.tigrisshriners.com
SUMMARY:Stated Communication for Nobles
DESCRIPTION:On May 17\, Tigris will hold our monthly business meeting.  We will have new Nobles to vote on and updates on coming events.  Our food and Fellowship will be from 6:30 pm to 7:30pm.  Starting this month\, we will have a satellite location in Hannibal\, NY.  This is a joint venture between Hannibal Lodge and Tigris Shriners (food and fellowship will be at both locations).  We hope that by offering a second location we can enhance your Shrine experience and offer a meeting closer to many of our Nobles homes.  Please bring your membership card or have it on your phone (MyFez Card Reader).  For those that do not have their card we will look up members.  ALL in attendance MUST be Nobles of Shriners International. \nPlease attend to hear membership updates from Tigris and Shriners International. \nFor any questions\, please contact Illustrious Sir Duane Crapser.
URL:https://www.tigrisshriners.com/event/stated-communication-for-nobles/
LOCATION:Tigris Shrine\, 1121 Milton Ave.\, Syracuse\, NY\, 13204\, United States
CATEGORIES:Admin Meetings,Tigris Shriners
ATTACH;FMTTYPE=image/png:https://www.tigrisshriners.com/wp-content/uploads/2020/04/TSlogo.png
END:VEVENT
END:VCALENDAR