BEGIN:VCALENDAR
VERSION:2.0
PRODID:-//Tigris Shriners - ECPv6.15.20//NONSGML v1.0//EN
CALSCALE:GREGORIAN
METHOD:PUBLISH
X-WR-CALNAME:Tigris Shriners
X-ORIGINAL-URL:https://www.tigrisshriners.com
X-WR-CALDESC:Events for Tigris Shriners
REFRESH-INTERVAL;VALUE=DURATION:PT1H
X-Robots-Tag:noindex
X-PUBLISHED-TTL:PT1H
BEGIN:VTIMEZONE
TZID:America/New_York
BEGIN:DAYLIGHT
TZOFFSETFROM:-0500
TZOFFSETTO:-0400
TZNAME:EDT
DTSTART:20200308T070000
END:DAYLIGHT
BEGIN:STANDARD
TZOFFSETFROM:-0400
TZOFFSETTO:-0500
TZNAME:EST
DTSTART:20201101T060000
END:STANDARD
BEGIN:DAYLIGHT
TZOFFSETFROM:-0500
TZOFFSETTO:-0400
TZNAME:EDT
DTSTART:20210314T070000
END:DAYLIGHT
BEGIN:STANDARD
TZOFFSETFROM:-0400
TZOFFSETTO:-0500
TZNAME:EST
DTSTART:20211107T060000
END:STANDARD
BEGIN:DAYLIGHT
TZOFFSETFROM:-0500
TZOFFSETTO:-0400
TZNAME:EDT
DTSTART:20220313T070000
END:DAYLIGHT
BEGIN:STANDARD
TZOFFSETFROM:-0400
TZOFFSETTO:-0500
TZNAME:EST
DTSTART:20221106T060000
END:STANDARD
BEGIN:DAYLIGHT
TZOFFSETFROM:-0500
TZOFFSETTO:-0400
TZNAME:EDT
DTSTART:20230312T070000
END:DAYLIGHT
BEGIN:STANDARD
TZOFFSETFROM:-0400
TZOFFSETTO:-0500
TZNAME:EST
DTSTART:20231105T060000
END:STANDARD
BEGIN:DAYLIGHT
TZOFFSETFROM:-0500
TZOFFSETTO:-0400
TZNAME:EDT
DTSTART:20240310T070000
END:DAYLIGHT
BEGIN:STANDARD
TZOFFSETFROM:-0400
TZOFFSETTO:-0500
TZNAME:EST
DTSTART:20241103T060000
END:STANDARD
END:VTIMEZONE
BEGIN:VEVENT
DTSTART;TZID=America/New_York:20230517T183000
DTEND;TZID=America/New_York:20230517T213000
DTSTAMP:20260423T181255
CREATED:20230514T140640Z
LAST-MODIFIED:20230514T140640Z
UID:8798-1684348200-1684359000@www.tigrisshriners.com
SUMMARY:Stated Communication for Nobles
DESCRIPTION:On May 17\, Tigris will hold our monthly business meeting.  We will have new Nobles to vote on and updates on coming events.  Our food and Fellowship will be from 6:30 pm to 7:30pm.  Starting this month\, we will have a satellite location in Hannibal\, NY.  This is a joint venture between Hannibal Lodge and Tigris Shriners (food and fellowship will be at both locations).  We hope that by offering a second location we can enhance your Shrine experience and offer a meeting closer to many of our Nobles homes.  Please bring your membership card or have it on your phone (MyFez Card Reader).  For those that do not have their card we will look up members.  ALL in attendance MUST be Nobles of Shriners International. \nPlease attend to hear membership updates from Tigris and Shriners International. \nFor any questions\, please contact Illustrious Sir Duane Crapser.
URL:https://www.tigrisshriners.com/event/stated-communication-for-nobles/
LOCATION:Tigris Shrine\, 1121 Milton Ave.\, Syracuse\, NY\, 13204\, United States
CATEGORIES:Admin Meetings,Tigris Shriners
ATTACH;FMTTYPE=image/png:https://www.tigrisshriners.com/wp-content/uploads/2020/04/TSlogo.png
END:VEVENT
BEGIN:VEVENT
DTSTART;TZID=America/New_York:20211201T190000
DTEND;TZID=America/New_York:20211201T200000
DTSTAMP:20260423T181255
CREATED:20210322T003205Z
LAST-MODIFIED:20210322T003205Z
UID:6934-1638385200-1638388800@www.tigrisshriners.com
SUMMARY:Unit Council Meeting
DESCRIPTION:Unit Leaders are requested for a meeting of the Unit Council. This will be our official monthly meeting of the Nobles that lead the Units of Tigris Shrine Center. \nFor questions\, please contact the Oriental Guide\, Joe Stabb.
URL:https://www.tigrisshriners.com/event/unit-council-meeting-8/
LOCATION:Tigris Shrine\, 1121 Milton Ave.\, Syracuse\, NY\, 13204\, United States
CATEGORIES:Admin Meetings,Tigris Shriners
END:VEVENT
BEGIN:VEVENT
DTSTART;TZID=America/New_York:20211103T190000
DTEND;TZID=America/New_York:20211103T200000
DTSTAMP:20260423T181255
CREATED:20210322T003102Z
LAST-MODIFIED:20210322T003102Z
UID:6932-1635966000-1635969600@www.tigrisshriners.com
SUMMARY:Unit Council Meeting
DESCRIPTION:Unit Leaders are requested for a meeting of the Unit Council. This will be our official monthly meeting of the Nobles that lead the Units of Tigris Shrine Center. \nFor questions\, please contact the Oriental Guide\, Joe Stabb.
URL:https://www.tigrisshriners.com/event/unit-council-meeting-7/
LOCATION:Tigris Shrine\, 1121 Milton Ave.\, Syracuse\, NY\, 13204\, United States
CATEGORIES:Admin Meetings,Tigris Shriners
END:VEVENT
BEGIN:VEVENT
DTSTART;TZID=America/New_York:20211006T190000
DTEND;TZID=America/New_York:20211006T200000
DTSTAMP:20260423T181255
CREATED:20210322T002920Z
LAST-MODIFIED:20210322T002920Z
UID:6930-1633546800-1633550400@www.tigrisshriners.com
SUMMARY:Unit Council Meeting
DESCRIPTION:Unit Leaders are requested for a meeting of the Unit Council. This will be our official monthly meeting of the Nobles that lead the Units of Tigris Shrine Center. \nFor questions\, please contact the Oriental Guide\, Joe Stabb.
URL:https://www.tigrisshriners.com/event/unit-council-meeting-6/
LOCATION:Tigris Shrine\, 1121 Milton Ave.\, Syracuse\, NY\, 13204\, United States
CATEGORIES:Admin Meetings,Tigris Shriners
END:VEVENT
BEGIN:VEVENT
DTSTART;TZID=America/New_York:20210908T183000
DTEND;TZID=America/New_York:20210908T200000
DTSTAMP:20260423T181255
CREATED:20210322T002841Z
LAST-MODIFIED:20210902T033635Z
UID:6928-1631125800-1631131200@www.tigrisshriners.com
SUMMARY:Unit Council Meeting
DESCRIPTION:You and your Lady are invited to our Unit Counsel meeting on Wednesday September 8\, at 6:30.  Going to be a little different than normal.  Social time will be from 6:30 to 7pm Beef stew will be served for a cash donation of your choosing.  Please bring your Ladies along to enjoy the evening.  A cash donation of $100 will be made to the unit with the most members present.   Much to discuss.  Please contact to office so we know how much food to prepare.
URL:https://www.tigrisshriners.com/event/unit-council-meeting-5/
LOCATION:Tigris Shrine\, 1121 Milton Ave.\, Syracuse\, NY\, 13204\, United States
CATEGORIES:Admin Meetings,Tigris Shriners
ATTACH;FMTTYPE=image/png:https://www.tigrisshriners.com/wp-content/uploads/2020/04/TSlogo.png
END:VEVENT
BEGIN:VEVENT
DTSTART;TZID=America/New_York:20210804T190000
DTEND;TZID=America/New_York:20210804T200000
DTSTAMP:20260423T181255
CREATED:20210322T002737Z
LAST-MODIFIED:20210322T002737Z
UID:6926-1628103600-1628107200@www.tigrisshriners.com
SUMMARY:Unit Council Meeting
DESCRIPTION:Unit Leaders are requested for a meeting of the Unit Council. This will be our official monthly meeting of the Nobles that lead the Units of Tigris Shrine Center. \nFor questions\, please contact the Oriental Guide\, Joe Stabb.
URL:https://www.tigrisshriners.com/event/unit-council-meeting-4/
LOCATION:Tigris Shrine\, 1121 Milton Ave.\, Syracuse\, NY\, 13204\, United States
CATEGORIES:Admin Meetings,Tigris Shriners
END:VEVENT
BEGIN:VEVENT
DTSTART;TZID=America/New_York:20210602T190000
DTEND;TZID=America/New_York:20210602T200000
DTSTAMP:20260423T181255
CREATED:20210322T002658Z
LAST-MODIFIED:20210322T002658Z
UID:6924-1622660400-1622664000@www.tigrisshriners.com
SUMMARY:Unit Council Meeting
DESCRIPTION:Unit Leaders are requested for a meeting of the Unit Council. This will be our official monthly meeting of the Nobles that lead the Units of Tigris Shrine Center. \nFor questions\, please contact the Oriental Guide\, Joe Stabb.
URL:https://www.tigrisshriners.com/event/unit-council-meeting-3/
LOCATION:Tigris Shrine\, 1121 Milton Ave.\, Syracuse\, NY\, 13204\, United States
CATEGORIES:Admin Meetings,Tigris Shriners
END:VEVENT
BEGIN:VEVENT
DTSTART;TZID=America/New_York:20210505T190000
DTEND;TZID=America/New_York:20210505T200000
DTSTAMP:20260423T181255
CREATED:20210322T002619Z
LAST-MODIFIED:20210322T002619Z
UID:6922-1620241200-1620244800@www.tigrisshriners.com
SUMMARY:Unit Council Meeting
DESCRIPTION:Unit Leaders are requested for a meeting of the Unit Council. This will be our official monthly meeting of the Nobles that lead the Units of Tigris Shrine Center. \nFor questions\, please contact the Oriental Guide\, Joe Stabb.
URL:https://www.tigrisshriners.com/event/unit-council-meeting-2/
LOCATION:Tigris Shrine\, 1121 Milton Ave.\, Syracuse\, NY\, 13204\, United States
CATEGORIES:Admin Meetings,Tigris Shriners
END:VEVENT
BEGIN:VEVENT
DTSTART;TZID=America/New_York:20210407T190000
DTEND;TZID=America/New_York:20210407T200000
DTSTAMP:20260423T181255
CREATED:20210322T002536Z
LAST-MODIFIED:20210322T002536Z
UID:6920-1617822000-1617825600@www.tigrisshriners.com
SUMMARY:Unit Council Meeting
DESCRIPTION:Unit Leaders are requested for a meeting of the Unit Council. This will be our official monthly meeting of the Nobles that lead the Units of Tigris Shrine Center. \nFor questions\, please contact the Oriental Guide\, Joe Stabb.
URL:https://www.tigrisshriners.com/event/unit-council-meeting/
LOCATION:Tigris Shrine\, 1121 Milton Ave.\, Syracuse\, NY\, 13204\, United States
CATEGORIES:Admin Meetings,Tigris Shriners
END:VEVENT
END:VCALENDAR