BEGIN:VCALENDAR
VERSION:2.0
PRODID:-//Tigris Shriners - ECPv6.15.20//NONSGML v1.0//EN
CALSCALE:GREGORIAN
METHOD:PUBLISH
X-WR-CALNAME:Tigris Shriners
X-ORIGINAL-URL:https://www.tigrisshriners.com
X-WR-CALDESC:Events for Tigris Shriners
REFRESH-INTERVAL;VALUE=DURATION:PT1H
X-Robots-Tag:noindex
X-PUBLISHED-TTL:PT1H
BEGIN:VTIMEZONE
TZID:America/New_York
BEGIN:DAYLIGHT
TZOFFSETFROM:-0500
TZOFFSETTO:-0400
TZNAME:EDT
DTSTART:20220313T070000
END:DAYLIGHT
BEGIN:STANDARD
TZOFFSETFROM:-0400
TZOFFSETTO:-0500
TZNAME:EST
DTSTART:20221106T060000
END:STANDARD
BEGIN:DAYLIGHT
TZOFFSETFROM:-0500
TZOFFSETTO:-0400
TZNAME:EDT
DTSTART:20230312T070000
END:DAYLIGHT
BEGIN:STANDARD
TZOFFSETFROM:-0400
TZOFFSETTO:-0500
TZNAME:EST
DTSTART:20231105T060000
END:STANDARD
BEGIN:DAYLIGHT
TZOFFSETFROM:-0500
TZOFFSETTO:-0400
TZNAME:EDT
DTSTART:20240310T070000
END:DAYLIGHT
BEGIN:STANDARD
TZOFFSETFROM:-0400
TZOFFSETTO:-0500
TZNAME:EST
DTSTART:20241103T060000
END:STANDARD
END:VTIMEZONE
BEGIN:VEVENT
DTSTART;TZID=America/New_York:20230108T180000
DTEND;TZID=America/New_York:20230108T210000
DTSTAMP:20260425T122428
CREATED:20230108T161315Z
LAST-MODIFIED:20230108T164022Z
UID:8720-1673200800-1673211600@www.tigrisshriners.com
SUMMARY:Tigris Shrine Bingo
DESCRIPTION:EVERY SUNDAY \nDOORS OPEN AT 3 P.M. | BINGO BEGINS AT 6 P.M. \n1121 MILTON AVE\, SYRACUSE\, NY 13204 \nBINGO\, PULL TABS\, RAFFLES\, FOOD \nThere is a $40.00 minimum spend for your admission package so we do not have to cut prizes.  Additional card will be available for purchase. If you want one of the electronic bingo tablets you must arrive early and get in line. We only have 50 tablets! Paper sheets are also available. \n\nAbsolutely NO OUTSIDE FOOD will be allowed in BINGO per NYS Gaming guidelines\nWe will be selling food before BINGO and during intermission only. All food will be ordered and eaten in the bar area and will NOT BE ALLOWED to be brought into the BINGO area.\n\nTigris Shriners reserve the right to make any changes necessary. \nProceeds are for the benefit of Tigris Shriners. Payments are not deductible as charitable contributions.
URL:https://www.tigrisshriners.com/event/tigris-shrine-bingo-7/
LOCATION:Tigris Shrine\, 1121 Milton Ave.\, Syracuse\, NY\, 13204\, United States
CATEGORIES:Community Events,Fundraising Events,Tigris Shriners
ATTACH;FMTTYPE=image/png:https://www.tigrisshriners.com/wp-content/uploads/2023/01/1_800.png
END:VEVENT
BEGIN:VEVENT
DTSTART;TZID=America/New_York:20230108T180000
DTEND;TZID=America/New_York:20230108T210000
DTSTAMP:20260425T122428
CREATED:20230108T161315Z
LAST-MODIFIED:20230108T164022Z
UID:8720-1673200800-1673211600@www.tigrisshriners.com
SUMMARY:Tigris Shrine Bingo
DESCRIPTION:EVERY SUNDAY \nDOORS OPEN AT 3 P.M. | BINGO BEGINS AT 6 P.M. \n1121 MILTON AVE\, SYRACUSE\, NY 13204 \nBINGO\, PULL TABS\, RAFFLES\, FOOD \nThere is a $40.00 minimum spend for your admission package so we do not have to cut prizes.  Additional card will be available for purchase. If you want one of the electronic bingo tablets you must arrive early and get in line. We only have 50 tablets! Paper sheets are also available. \n\nAbsolutely NO OUTSIDE FOOD will be allowed in BINGO per NYS Gaming guidelines\nWe will be selling food before BINGO and during intermission only. All food will be ordered and eaten in the bar area and will NOT BE ALLOWED to be brought into the BINGO area.\n\nTigris Shriners reserve the right to make any changes necessary. \nProceeds are for the benefit of Tigris Shriners. Payments are not deductible as charitable contributions.
URL:https://www.tigrisshriners.com/event/tigris-shrine-bingo-7/
LOCATION:Tigris Shrine\, 1121 Milton Ave.\, Syracuse\, NY\, 13204\, United States
CATEGORIES:Community Events,Fundraising Events,Tigris Shriners
ATTACH;FMTTYPE=image/png:https://www.tigrisshriners.com/wp-content/uploads/2023/01/1_800.png
END:VEVENT
BEGIN:VEVENT
DTSTART;TZID=America/New_York:20230108T180000
DTEND;TZID=America/New_York:20230108T210000
DTSTAMP:20260425T122428
CREATED:20230108T161315Z
LAST-MODIFIED:20230108T164022Z
UID:8720-1673200800-1673211600@www.tigrisshriners.com
SUMMARY:Tigris Shrine Bingo
DESCRIPTION:EVERY SUNDAY \nDOORS OPEN AT 3 P.M. | BINGO BEGINS AT 6 P.M. \n1121 MILTON AVE\, SYRACUSE\, NY 13204 \nBINGO\, PULL TABS\, RAFFLES\, FOOD \nThere is a $40.00 minimum spend for your admission package so we do not have to cut prizes.  Additional card will be available for purchase. If you want one of the electronic bingo tablets you must arrive early and get in line. We only have 50 tablets! Paper sheets are also available. \n\nAbsolutely NO OUTSIDE FOOD will be allowed in BINGO per NYS Gaming guidelines\nWe will be selling food before BINGO and during intermission only. All food will be ordered and eaten in the bar area and will NOT BE ALLOWED to be brought into the BINGO area.\n\nTigris Shriners reserve the right to make any changes necessary. \nProceeds are for the benefit of Tigris Shriners. Payments are not deductible as charitable contributions.
URL:https://www.tigrisshriners.com/event/tigris-shrine-bingo-7/
LOCATION:Tigris Shrine\, 1121 Milton Ave.\, Syracuse\, NY\, 13204\, United States
CATEGORIES:Community Events,Fundraising Events,Tigris Shriners
ATTACH;FMTTYPE=image/png:https://www.tigrisshriners.com/wp-content/uploads/2023/01/1_800.png
END:VEVENT
BEGIN:VEVENT
DTSTART;TZID=America/New_York:20230108T180000
DTEND;TZID=America/New_York:20230108T210000
DTSTAMP:20260425T122428
CREATED:20230108T161315Z
LAST-MODIFIED:20230108T164022Z
UID:8720-1673200800-1673211600@www.tigrisshriners.com
SUMMARY:Tigris Shrine Bingo
DESCRIPTION:EVERY SUNDAY \nDOORS OPEN AT 3 P.M. | BINGO BEGINS AT 6 P.M. \n1121 MILTON AVE\, SYRACUSE\, NY 13204 \nBINGO\, PULL TABS\, RAFFLES\, FOOD \nThere is a $40.00 minimum spend for your admission package so we do not have to cut prizes.  Additional card will be available for purchase. If you want one of the electronic bingo tablets you must arrive early and get in line. We only have 50 tablets! Paper sheets are also available. \n\nAbsolutely NO OUTSIDE FOOD will be allowed in BINGO per NYS Gaming guidelines\nWe will be selling food before BINGO and during intermission only. All food will be ordered and eaten in the bar area and will NOT BE ALLOWED to be brought into the BINGO area.\n\nTigris Shriners reserve the right to make any changes necessary. \nProceeds are for the benefit of Tigris Shriners. Payments are not deductible as charitable contributions.
URL:https://www.tigrisshriners.com/event/tigris-shrine-bingo-7/
LOCATION:Tigris Shrine\, 1121 Milton Ave.\, Syracuse\, NY\, 13204\, United States
CATEGORIES:Community Events,Fundraising Events,Tigris Shriners
ATTACH;FMTTYPE=image/png:https://www.tigrisshriners.com/wp-content/uploads/2023/01/1_800.png
END:VEVENT
END:VCALENDAR