BEGIN:VCALENDAR
VERSION:2.0
PRODID:-//Tigris Shriners - ECPv6.15.20//NONSGML v1.0//EN
CALSCALE:GREGORIAN
METHOD:PUBLISH
X-WR-CALNAME:Tigris Shriners
X-ORIGINAL-URL:https://www.tigrisshriners.com
X-WR-CALDESC:Events for Tigris Shriners
REFRESH-INTERVAL;VALUE=DURATION:PT1H
X-Robots-Tag:noindex
X-PUBLISHED-TTL:PT1H
BEGIN:VTIMEZONE
TZID:America/New_York
BEGIN:DAYLIGHT
TZOFFSETFROM:-0500
TZOFFSETTO:-0400
TZNAME:EDT
DTSTART:20250309T070000
END:DAYLIGHT
BEGIN:STANDARD
TZOFFSETFROM:-0400
TZOFFSETTO:-0500
TZNAME:EST
DTSTART:20251102T060000
END:STANDARD
BEGIN:DAYLIGHT
TZOFFSETFROM:-0500
TZOFFSETTO:-0400
TZNAME:EDT
DTSTART:20260308T070000
END:DAYLIGHT
BEGIN:STANDARD
TZOFFSETFROM:-0400
TZOFFSETTO:-0500
TZNAME:EST
DTSTART:20261101T060000
END:STANDARD
BEGIN:DAYLIGHT
TZOFFSETFROM:-0500
TZOFFSETTO:-0400
TZNAME:EDT
DTSTART:20270314T070000
END:DAYLIGHT
BEGIN:STANDARD
TZOFFSETFROM:-0400
TZOFFSETTO:-0500
TZNAME:EST
DTSTART:20271107T060000
END:STANDARD
END:VTIMEZONE
BEGIN:VEVENT
DTSTART;TZID=America/New_York:20260810T110000
DTEND;TZID=America/New_York:20260810T233000
DTSTAMP:20260423T131706
CREATED:20260421T204318Z
LAST-MODIFIED:20260421T210112Z
UID:11038-1786359600-1786404600@www.tigrisshriners.com
SUMMARY:2026 Tigris Shriners Golf Tournament
DESCRIPTION:Join Tigris Shriners at the private Beaver Meadows Golf Course on August 10\, 2026 \n185 Barnard Road\, Phoenix\, NY 13135 \nProceeds will benefit Shriners Children’s New England \n18 Holes of Golf – Captain & Crew Format \nShotgun start at 11am
URL:https://www.tigrisshriners.com/event/2026-tigris-shriners-golf-tournament/
CATEGORIES:Fundraising Events,Tigris Shriners
ATTACH;FMTTYPE=image/jpeg:https://www.tigrisshriners.com/wp-content/uploads/2026/04/Golf-Tourney.jpg
END:VEVENT
END:VCALENDAR