BEGIN:VCALENDAR
VERSION:2.0
PRODID:-//Tigris Shriners - ECPv6.15.20//NONSGML v1.0//EN
CALSCALE:GREGORIAN
METHOD:PUBLISH
X-WR-CALNAME:Tigris Shriners
X-ORIGINAL-URL:https://www.tigrisshriners.com
X-WR-CALDESC:Events for Tigris Shriners
REFRESH-INTERVAL;VALUE=DURATION:PT1H
X-Robots-Tag:noindex
X-PUBLISHED-TTL:PT1H
BEGIN:VTIMEZONE
TZID:America/New_York
BEGIN:DAYLIGHT
TZOFFSETFROM:-0500
TZOFFSETTO:-0400
TZNAME:EDT
DTSTART:20200308T070000
END:DAYLIGHT
BEGIN:STANDARD
TZOFFSETFROM:-0400
TZOFFSETTO:-0500
TZNAME:EST
DTSTART:20201101T060000
END:STANDARD
BEGIN:DAYLIGHT
TZOFFSETFROM:-0500
TZOFFSETTO:-0400
TZNAME:EDT
DTSTART:20210314T070000
END:DAYLIGHT
BEGIN:STANDARD
TZOFFSETFROM:-0400
TZOFFSETTO:-0500
TZNAME:EST
DTSTART:20211107T060000
END:STANDARD
BEGIN:DAYLIGHT
TZOFFSETFROM:-0500
TZOFFSETTO:-0400
TZNAME:EDT
DTSTART:20220313T070000
END:DAYLIGHT
BEGIN:STANDARD
TZOFFSETFROM:-0400
TZOFFSETTO:-0500
TZNAME:EST
DTSTART:20221106T060000
END:STANDARD
BEGIN:DAYLIGHT
TZOFFSETFROM:-0500
TZOFFSETTO:-0400
TZNAME:EDT
DTSTART:20230312T070000
END:DAYLIGHT
BEGIN:STANDARD
TZOFFSETFROM:-0400
TZOFFSETTO:-0500
TZNAME:EST
DTSTART:20231105T060000
END:STANDARD
END:VTIMEZONE
BEGIN:VEVENT
DTSTART;TZID=America/New_York:20220820T120000
DTEND;TZID=America/New_York:20220820T150000
DTSTAMP:20260423T195723
CREATED:20220816T115658Z
LAST-MODIFIED:20220816T115658Z
UID:8383-1660996800-1661007600@www.tigrisshriners.com
SUMMARY:Fun & Fellowship Picnic
DESCRIPTION:Bring the family and enjoy some fun and fellowship with Tigris Shriners. \n$5 per person gets you a hot dog\, cheeseburger\, salt potatoes\, and a bag of chips. Soda/Water will be $1 each.
URL:https://www.tigrisshriners.com/event/fun-fellowship-picnic/
LOCATION:Hannibal Masonic Lodge\, 226 Rochester Street\, Hannibal\, NY\, 13074\, United States
CATEGORIES:Shriner's Events,Tigris Shriners
ATTACH;FMTTYPE=image/jpeg:https://www.tigrisshriners.com/wp-content/uploads/2022/08/b7bf097598cbde4a5e3b8c1612c39d670d39ac09efb5fa8166b42a5e43998a67-rimg-w510-h296-gmir.jpg
END:VEVENT
BEGIN:VEVENT
DTSTART;TZID=America/New_York:20210913T183000
DTEND;TZID=America/New_York:20210913T210000
DTSTAMP:20260423T195723
CREATED:20210902T032635Z
LAST-MODIFIED:20210902T032635Z
UID:7505-1631557800-1631566800@www.tigrisshriners.com
SUMMARY:Tigris Shrine Bingo
DESCRIPTION:MONDAY EVENINGS \nDOORS OPEN AT 3:00 P.M. | BINGO BEGINS AT 6:30 P.M. \n1121 MILTON AVE\, SYRACUSE\, NY 13204 \nBINGO\, PULL TABS\, RAFFLES\, FOOD \nThere is a $40.00 minimum spend for your admission package so we do not have to cut prizes.  Additional card will be available for purchase. If you want one of the electronic bingo tablets you must arrive early and get in line. We only have 50 tablets! Paper sheets are also available. \n\n\nAbsolutely NO OUTSIDE FOOD will be allowed in BINGO per NYS Gaming guidelines\n\n\nWe will be selling food before BINGO and during intermission only. All food will be ordered and eaten in the bar area and will NOT BE ALLOWED to be brought into the BINGO area.\n\n\nJulia will still be selling soda/water and you may keep/drink them at your table\n\n\nTigris Shriners reserve the right to make any changes necessary. \nProceeds are for the benefit of Tigris Shriners. Payments are not deductible as charitable contributions.
URL:https://www.tigrisshriners.com/event/tigris-shrine-bingo-3/
LOCATION:Tigris Shrine\, 1121 Milton Ave.\, Syracuse\, NY\, 13204\, United States
CATEGORIES:Fundraising Events,Shriner's Events,Tigris Shriners
ATTACH;FMTTYPE=image/jpeg:https://www.tigrisshriners.com/wp-content/uploads/2019/04/35148842_xl-scaled.jpg
END:VEVENT
BEGIN:VEVENT
DTSTART;TZID=America/New_York:20210913T183000
DTEND;TZID=America/New_York:20210913T210000
DTSTAMP:20260423T195723
CREATED:20210902T032635Z
LAST-MODIFIED:20210902T032635Z
UID:7505-1631557800-1631566800@www.tigrisshriners.com
SUMMARY:Tigris Shrine Bingo
DESCRIPTION:MONDAY EVENINGS \nDOORS OPEN AT 3:00 P.M. | BINGO BEGINS AT 6:30 P.M. \n1121 MILTON AVE\, SYRACUSE\, NY 13204 \nBINGO\, PULL TABS\, RAFFLES\, FOOD \nThere is a $40.00 minimum spend for your admission package so we do not have to cut prizes.  Additional card will be available for purchase. If you want one of the electronic bingo tablets you must arrive early and get in line. We only have 50 tablets! Paper sheets are also available. \n\n\nAbsolutely NO OUTSIDE FOOD will be allowed in BINGO per NYS Gaming guidelines\n\n\nWe will be selling food before BINGO and during intermission only. All food will be ordered and eaten in the bar area and will NOT BE ALLOWED to be brought into the BINGO area.\n\n\nJulia will still be selling soda/water and you may keep/drink them at your table\n\n\nTigris Shriners reserve the right to make any changes necessary. \nProceeds are for the benefit of Tigris Shriners. Payments are not deductible as charitable contributions.
URL:https://www.tigrisshriners.com/event/tigris-shrine-bingo-3/
LOCATION:Tigris Shrine\, 1121 Milton Ave.\, Syracuse\, NY\, 13204\, United States
CATEGORIES:Fundraising Events,Shriner's Events,Tigris Shriners
ATTACH;FMTTYPE=image/jpeg:https://www.tigrisshriners.com/wp-content/uploads/2019/04/35148842_xl-scaled.jpg
END:VEVENT
BEGIN:VEVENT
DTSTART;TZID=America/New_York:20210913T183000
DTEND;TZID=America/New_York:20210913T210000
DTSTAMP:20260423T195723
CREATED:20210902T032635Z
LAST-MODIFIED:20210902T032635Z
UID:7505-1631557800-1631566800@www.tigrisshriners.com
SUMMARY:Tigris Shrine Bingo
DESCRIPTION:MONDAY EVENINGS \nDOORS OPEN AT 3:00 P.M. | BINGO BEGINS AT 6:30 P.M. \n1121 MILTON AVE\, SYRACUSE\, NY 13204 \nBINGO\, PULL TABS\, RAFFLES\, FOOD \nThere is a $40.00 minimum spend for your admission package so we do not have to cut prizes.  Additional card will be available for purchase. If you want one of the electronic bingo tablets you must arrive early and get in line. We only have 50 tablets! Paper sheets are also available. \n\n\nAbsolutely NO OUTSIDE FOOD will be allowed in BINGO per NYS Gaming guidelines\n\n\nWe will be selling food before BINGO and during intermission only. All food will be ordered and eaten in the bar area and will NOT BE ALLOWED to be brought into the BINGO area.\n\n\nJulia will still be selling soda/water and you may keep/drink them at your table\n\n\nTigris Shriners reserve the right to make any changes necessary. \nProceeds are for the benefit of Tigris Shriners. Payments are not deductible as charitable contributions.
URL:https://www.tigrisshriners.com/event/tigris-shrine-bingo-3/
LOCATION:Tigris Shrine\, 1121 Milton Ave.\, Syracuse\, NY\, 13204\, United States
CATEGORIES:Fundraising Events,Shriner's Events,Tigris Shriners
ATTACH;FMTTYPE=image/jpeg:https://www.tigrisshriners.com/wp-content/uploads/2019/04/35148842_xl-scaled.jpg
END:VEVENT
BEGIN:VEVENT
DTSTART;TZID=America/New_York:20210913T183000
DTEND;TZID=America/New_York:20210913T210000
DTSTAMP:20260423T195723
CREATED:20210902T032635Z
LAST-MODIFIED:20210902T032635Z
UID:7505-1631557800-1631566800@www.tigrisshriners.com
SUMMARY:Tigris Shrine Bingo
DESCRIPTION:MONDAY EVENINGS \nDOORS OPEN AT 3:00 P.M. | BINGO BEGINS AT 6:30 P.M. \n1121 MILTON AVE\, SYRACUSE\, NY 13204 \nBINGO\, PULL TABS\, RAFFLES\, FOOD \nThere is a $40.00 minimum spend for your admission package so we do not have to cut prizes.  Additional card will be available for purchase. If you want one of the electronic bingo tablets you must arrive early and get in line. We only have 50 tablets! Paper sheets are also available. \n\n\nAbsolutely NO OUTSIDE FOOD will be allowed in BINGO per NYS Gaming guidelines\n\n\nWe will be selling food before BINGO and during intermission only. All food will be ordered and eaten in the bar area and will NOT BE ALLOWED to be brought into the BINGO area.\n\n\nJulia will still be selling soda/water and you may keep/drink them at your table\n\n\nTigris Shriners reserve the right to make any changes necessary. \nProceeds are for the benefit of Tigris Shriners. Payments are not deductible as charitable contributions.
URL:https://www.tigrisshriners.com/event/tigris-shrine-bingo-3/
LOCATION:Tigris Shrine\, 1121 Milton Ave.\, Syracuse\, NY\, 13204\, United States
CATEGORIES:Fundraising Events,Shriner's Events,Tigris Shriners
ATTACH;FMTTYPE=image/jpeg:https://www.tigrisshriners.com/wp-content/uploads/2019/04/35148842_xl-scaled.jpg
END:VEVENT
BEGIN:VEVENT
DTSTART;TZID=America/New_York:20210913T183000
DTEND;TZID=America/New_York:20210913T210000
DTSTAMP:20260423T195723
CREATED:20210902T032635Z
LAST-MODIFIED:20210902T032635Z
UID:7505-1631557800-1631566800@www.tigrisshriners.com
SUMMARY:Tigris Shrine Bingo
DESCRIPTION:MONDAY EVENINGS \nDOORS OPEN AT 3:00 P.M. | BINGO BEGINS AT 6:30 P.M. \n1121 MILTON AVE\, SYRACUSE\, NY 13204 \nBINGO\, PULL TABS\, RAFFLES\, FOOD \nThere is a $40.00 minimum spend for your admission package so we do not have to cut prizes.  Additional card will be available for purchase. If you want one of the electronic bingo tablets you must arrive early and get in line. We only have 50 tablets! Paper sheets are also available. \n\n\nAbsolutely NO OUTSIDE FOOD will be allowed in BINGO per NYS Gaming guidelines\n\n\nWe will be selling food before BINGO and during intermission only. All food will be ordered and eaten in the bar area and will NOT BE ALLOWED to be brought into the BINGO area.\n\n\nJulia will still be selling soda/water and you may keep/drink them at your table\n\n\nTigris Shriners reserve the right to make any changes necessary. \nProceeds are for the benefit of Tigris Shriners. Payments are not deductible as charitable contributions.
URL:https://www.tigrisshriners.com/event/tigris-shrine-bingo-3/
LOCATION:Tigris Shrine\, 1121 Milton Ave.\, Syracuse\, NY\, 13204\, United States
CATEGORIES:Fundraising Events,Shriner's Events,Tigris Shriners
ATTACH;FMTTYPE=image/jpeg:https://www.tigrisshriners.com/wp-content/uploads/2019/04/35148842_xl-scaled.jpg
END:VEVENT
BEGIN:VEVENT
DTSTART;TZID=America/New_York:20210913T183000
DTEND;TZID=America/New_York:20210913T210000
DTSTAMP:20260423T195723
CREATED:20210902T032635Z
LAST-MODIFIED:20210902T032635Z
UID:7505-1631557800-1631566800@www.tigrisshriners.com
SUMMARY:Tigris Shrine Bingo
DESCRIPTION:MONDAY EVENINGS \nDOORS OPEN AT 3:00 P.M. | BINGO BEGINS AT 6:30 P.M. \n1121 MILTON AVE\, SYRACUSE\, NY 13204 \nBINGO\, PULL TABS\, RAFFLES\, FOOD \nThere is a $40.00 minimum spend for your admission package so we do not have to cut prizes.  Additional card will be available for purchase. If you want one of the electronic bingo tablets you must arrive early and get in line. We only have 50 tablets! Paper sheets are also available. \n\n\nAbsolutely NO OUTSIDE FOOD will be allowed in BINGO per NYS Gaming guidelines\n\n\nWe will be selling food before BINGO and during intermission only. All food will be ordered and eaten in the bar area and will NOT BE ALLOWED to be brought into the BINGO area.\n\n\nJulia will still be selling soda/water and you may keep/drink them at your table\n\n\nTigris Shriners reserve the right to make any changes necessary. \nProceeds are for the benefit of Tigris Shriners. Payments are not deductible as charitable contributions.
URL:https://www.tigrisshriners.com/event/tigris-shrine-bingo-3/
LOCATION:Tigris Shrine\, 1121 Milton Ave.\, Syracuse\, NY\, 13204\, United States
CATEGORIES:Fundraising Events,Shriner's Events,Tigris Shriners
ATTACH;FMTTYPE=image/jpeg:https://www.tigrisshriners.com/wp-content/uploads/2019/04/35148842_xl-scaled.jpg
END:VEVENT
BEGIN:VEVENT
DTSTART;TZID=America/New_York:20210913T183000
DTEND;TZID=America/New_York:20210913T210000
DTSTAMP:20260423T195723
CREATED:20210902T032635Z
LAST-MODIFIED:20210902T032635Z
UID:7505-1631557800-1631566800@www.tigrisshriners.com
SUMMARY:Tigris Shrine Bingo
DESCRIPTION:MONDAY EVENINGS \nDOORS OPEN AT 3:00 P.M. | BINGO BEGINS AT 6:30 P.M. \n1121 MILTON AVE\, SYRACUSE\, NY 13204 \nBINGO\, PULL TABS\, RAFFLES\, FOOD \nThere is a $40.00 minimum spend for your admission package so we do not have to cut prizes.  Additional card will be available for purchase. If you want one of the electronic bingo tablets you must arrive early and get in line. We only have 50 tablets! Paper sheets are also available. \n\n\nAbsolutely NO OUTSIDE FOOD will be allowed in BINGO per NYS Gaming guidelines\n\n\nWe will be selling food before BINGO and during intermission only. All food will be ordered and eaten in the bar area and will NOT BE ALLOWED to be brought into the BINGO area.\n\n\nJulia will still be selling soda/water and you may keep/drink them at your table\n\n\nTigris Shriners reserve the right to make any changes necessary. \nProceeds are for the benefit of Tigris Shriners. Payments are not deductible as charitable contributions.
URL:https://www.tigrisshriners.com/event/tigris-shrine-bingo-3/
LOCATION:Tigris Shrine\, 1121 Milton Ave.\, Syracuse\, NY\, 13204\, United States
CATEGORIES:Fundraising Events,Shriner's Events,Tigris Shriners
ATTACH;FMTTYPE=image/jpeg:https://www.tigrisshriners.com/wp-content/uploads/2019/04/35148842_xl-scaled.jpg
END:VEVENT
END:VCALENDAR