BEGIN:VCALENDAR
VERSION:2.0
PRODID:-//Tigris Shriners - ECPv6.15.20//NONSGML v1.0//EN
CALSCALE:GREGORIAN
METHOD:PUBLISH
X-ORIGINAL-URL:https://www.tigrisshriners.com
X-WR-CALDESC:Events for Tigris Shriners
REFRESH-INTERVAL;VALUE=DURATION:PT1H
X-Robots-Tag:noindex
X-PUBLISHED-TTL:PT1H
BEGIN:VTIMEZONE
TZID:America/New_York
BEGIN:DAYLIGHT
TZOFFSETFROM:-0500
TZOFFSETTO:-0400
TZNAME:EDT
DTSTART:20190310T070000
END:DAYLIGHT
BEGIN:STANDARD
TZOFFSETFROM:-0400
TZOFFSETTO:-0500
TZNAME:EST
DTSTART:20191103T060000
END:STANDARD
BEGIN:DAYLIGHT
TZOFFSETFROM:-0500
TZOFFSETTO:-0400
TZNAME:EDT
DTSTART:20200308T070000
END:DAYLIGHT
BEGIN:STANDARD
TZOFFSETFROM:-0400
TZOFFSETTO:-0500
TZNAME:EST
DTSTART:20201101T060000
END:STANDARD
BEGIN:DAYLIGHT
TZOFFSETFROM:-0500
TZOFFSETTO:-0400
TZNAME:EDT
DTSTART:20210314T070000
END:DAYLIGHT
BEGIN:STANDARD
TZOFFSETFROM:-0400
TZOFFSETTO:-0500
TZNAME:EST
DTSTART:20211107T060000
END:STANDARD
BEGIN:DAYLIGHT
TZOFFSETFROM:-0500
TZOFFSETTO:-0400
TZNAME:EDT
DTSTART:20220313T070000
END:DAYLIGHT
BEGIN:STANDARD
TZOFFSETFROM:-0400
TZOFFSETTO:-0500
TZNAME:EST
DTSTART:20221106T060000
END:STANDARD
BEGIN:DAYLIGHT
TZOFFSETFROM:-0500
TZOFFSETTO:-0400
TZNAME:EDT
DTSTART:20230312T070000
END:DAYLIGHT
BEGIN:STANDARD
TZOFFSETFROM:-0400
TZOFFSETTO:-0500
TZNAME:EST
DTSTART:20231105T060000
END:STANDARD
BEGIN:DAYLIGHT
TZOFFSETFROM:-0500
TZOFFSETTO:-0400
TZNAME:EDT
DTSTART:20240310T070000
END:DAYLIGHT
BEGIN:STANDARD
TZOFFSETFROM:-0400
TZOFFSETTO:-0500
TZNAME:EST
DTSTART:20241103T060000
END:STANDARD
END:VTIMEZONE
BEGIN:VEVENT
DTSTART;TZID=America/New_York:20230902T150000
DTEND;TZID=America/New_York:20230902T210000
DTSTAMP:20260423T181628
CREATED:20230824T114204Z
LAST-MODIFIED:20230824T114204Z
UID:8948-1693666800-1693688400@www.tigrisshriners.com
SUMMARY:CD Sales - Foreigner Concert
DESCRIPTION:September 2nd we will be selling CD’s at the St Joseph Amp\, at the Foreigner concert\, we will be meeting at the Shrine center at 3pm\, we need many people to make light work\, When the main concert starts you will be done to enjoy the show. Being a Shriner is more than a title\, so please\, come out\, assist with sales and get involved with the community.
URL:https://www.tigrisshriners.com/event/cd-sales-foreigner-concert/
LOCATION:St. Joseph’s Health Amphitheater at Lakeview\, 490 Restoration Way\, Syracuse\, NY\, 13209\, United States
CATEGORIES:Fundraising Events,Shriners Hospitals for Children
ATTACH;FMTTYPE=image/jpeg:https://www.tigrisshriners.com/wp-content/uploads/2023/08/download.jpg
END:VEVENT
BEGIN:VEVENT
DTSTART;VALUE=DATE:20201025
DTEND;VALUE=DATE:20201103
DTSTAMP:20260423T181628
CREATED:20200819T020011Z
LAST-MODIFIED:20200819T020011Z
UID:5913-1603584000-1604361599@www.tigrisshriners.com
SUMMARY:Virtual Haunted Walk
DESCRIPTION:Looking for some socially distanced fun this fall? Be a part of our Virtual Haunted Walk and choose your own location to participate! Help change the lives of children who come to us for medical care at Shriners Hospitals for Children — Boston. \n\n\n\n\n\n\n\n\n\n\n\n\n\n\n\n\n\n\n\n\n\n\n\n\n\n\n\n\n\n\n\n\n\n\n\n\n\n\n\n\n\n\n\n\n\n\n\n\n\n\n\n\nDon’t be a Scaredy Cat\, join in on the fun!  \nEasy ways to participate: \n\nWalk at your local park\, trail\, track or neighborhood sidewalk.  \nWalk to a new podcast\, audio book or music.  \nWalk your dog or a friend’s dog! \n\nDon’t want to walk alone?\nStart a team and walk with a friend or family member.\nDon’t want to start your own team?\nJoin any of our existing teams today!  \nShow us how creative you can be and encourage others to do the same!\nHow to get started: \n\nGo to BostonHauntedWalk.org and create a fundraising page. \nUpload a photo and customize your personal fundraising page.  \nShare your fundraising page with family\, friends and colleagues through social media\, email and text.  \nShow us your progress and tag us on Instagram\, Facebook\, and Twitter using the hashtag #BOSHauntedWalk.\n\nAll proceeds from the Virtual Haunted Walk 2020 benefit Shriners Hospitals for Children — Boston and support and advance world-class pediatric acute burn care\, reconstructive plastic surgery and cleft lip and palate care\, always regardless of families’ ability to pay. Visit BostonHauntedWalk.org and register today! \n\n\n\n\n\n\n\n\n\n\n\n\n\n\n\n\n\n\n\n\n\n\n\n\n\n\n\n\n\n\n\n\n\n\n\n\n\n\n\n\n\n\n\n\n\n\n\n\n\n\n\n\n\n\n\n\n\nRegister\n\n\n\n\n\n\n\n\n\n\n\n\n\n\n\n\n\n\n\n\nWe recommend using Chrome\, Safari\, Edge or Firefox when registering and accessing event web pages\, as we no longer provide support for Internet Explorer. \n\n\n\n\n\n\n\n\n\n\n\n\n\n\n\n\n\n\n\n\n\n\n\nLearn more\n\n\n\n\n\n\n\n\n\n\n\n\n\n\n\n\n\n\n\n\nWe encourage you to follow us on social media as we celebrate our patients and share hospital highlights. Follow us on Facebook\, Instagram and LinkedIn at @BosShrinersHospital and on Twitter at @BosShrinersHosp\, and post pictures and videos of your walk using the hashtag #BOSHauntedWalk to enter daily raffles and win prizes.\n\n\n\n\n\n\n\n\n\n\n\n\n\n\n\n\n\n\n\n\n\n\n\n\n\n\n\n\n\n\n\n\n\n\n\n\n\n\n\n\n\n\n\n\n\n\n\n\n\n\n\n\n\n\n\n \nContact Us\nShiva DamghanyDirector of Development617-371-4746sdamghany@shrinenet.org
URL:https://www.tigrisshriners.com/event/virtual-haunted-walk/
LOCATION:NY
CATEGORIES:Shriners Hospitals for Children
ATTACH;FMTTYPE=image/png:https://www.tigrisshriners.com/wp-content/uploads/2020/08/b6fa5ce6-cd1a-11ea-b4a8-0a744f8614b7.png
ORGANIZER;CN="Shriners Hospital for Children - Boston":MAILTO:cwahto@shrinenet.org
END:VEVENT
END:VCALENDAR