BEGIN:VCALENDAR
VERSION:2.0
PRODID:-//Tigris Shriners - ECPv6.15.20//NONSGML v1.0//EN
CALSCALE:GREGORIAN
METHOD:PUBLISH
X-ORIGINAL-URL:https://www.tigrisshriners.com
X-WR-CALDESC:Events for Tigris Shriners
REFRESH-INTERVAL;VALUE=DURATION:PT1H
X-Robots-Tag:noindex
X-PUBLISHED-TTL:PT1H
BEGIN:VTIMEZONE
TZID:America/New_York
BEGIN:DAYLIGHT
TZOFFSETFROM:-0500
TZOFFSETTO:-0400
TZNAME:EDT
DTSTART:20210314T070000
END:DAYLIGHT
BEGIN:STANDARD
TZOFFSETFROM:-0400
TZOFFSETTO:-0500
TZNAME:EST
DTSTART:20211107T060000
END:STANDARD
BEGIN:DAYLIGHT
TZOFFSETFROM:-0500
TZOFFSETTO:-0400
TZNAME:EDT
DTSTART:20220313T070000
END:DAYLIGHT
BEGIN:STANDARD
TZOFFSETFROM:-0400
TZOFFSETTO:-0500
TZNAME:EST
DTSTART:20221106T060000
END:STANDARD
BEGIN:DAYLIGHT
TZOFFSETFROM:-0500
TZOFFSETTO:-0400
TZNAME:EDT
DTSTART:20230312T070000
END:DAYLIGHT
BEGIN:STANDARD
TZOFFSETFROM:-0400
TZOFFSETTO:-0500
TZNAME:EST
DTSTART:20231105T060000
END:STANDARD
END:VTIMEZONE
BEGIN:VEVENT
DTSTART;TZID=America/New_York:20220716T113000
DTEND;TZID=America/New_York:20220716T160000
DTSTAMP:20260423T213136
CREATED:20220714T234707Z
LAST-MODIFIED:20220714T234707Z
UID:8340-1657971000-1657987200@www.tigrisshriners.com
SUMMARY:Pirates Weekend Parade in Sylvan Beach
DESCRIPTION:Rally the parade marchers\, fire truck\, and cooler carts! Meet at 11:30 a.m. for lineup. \nContact Ill Sir Jimmy Santy to reserve a cooler cart.
URL:https://www.tigrisshriners.com/event/pirates-weekend-parade-in-sylvan-beach/
CATEGORIES:Tigris Shriners,Ziyara Shriners
ATTACH;FMTTYPE=image/jpeg:https://www.tigrisshriners.com/wp-content/uploads/2022/07/292166410_1467356980354214_3591283812967170636_n.jpg
END:VEVENT
END:VCALENDAR